Workbook

Sheet Antrag
A1: Spalte ausblenden | F1: Ort, Datum
F2: Ansprechpartner/in:
F3: Telefon:
F4: Fax:
F5: E-Mail:
F6: ZAD-Nr des LWL:
B10: Landschaftsverband Westfalen-Lippe
B11: LWL-Inklusionsamt Soziale Teilhabe
B12: 48133 Münster
B16: Budgetnachweis
B17: über die Abrechnung von Fachleistungsstunden im Rahmen der Hilfe zur
B18: Überwindung besonderer sozialer Schwierigkeiten nach dem Achten Kapitel SGB Xll
B20: Leistungsberechtige/r:
B22: (Vor- und Zuname sowie Wohnanschrift)
B23: Aktenzeichen LWL: | G23: Geburtsdatum:
B25: Bewilligungszeitraum: | E25: vom | G25: bis
B27: Tatsächlich erbrachte Leistungen im Bewilligungszeitraum lt. Anlage: | J27: =IF('Liste zum Antrag'!G58=0,"",'Liste zum Antrag'!G58)
B29: Diese Leistungen werden gemäß § 2 Abs. 3 und 4 der Vergütungsvereinbarung mit einem Zuschlag
C30: für Fahrt- und Wegezeiten in Höhe von 20 % und
C31: für Ausfallzeiten (Fehlkontakte) in Höhe von 5 %
B32: abgerechnet.
A35: X | C35: Die Betreuung wurde beendet am: | G35: =IF(AND(B35=A35,B37=A35),1,"")
C37: Die Betreuung dauert an. | H37: =IF(G35=1,"Fehlerfassung, 2 mal X ","")
B39: Hiermit wird erklärt, dass die Verpflichtungen aus den Vereinbarungen nach §§ 75 ff. SGB Xll eingehalten wurden und alle hier gemachten Angaben je Betreuungskontakt anhand der Quittierungsbelege sowie der individuellen Betreuungsdokumentationen jederzeit nachgewiesen werden können. Diese Unterlagen sind fünf Jahre lang aufzubewahren und auf Verlangen des LWL vorzulegen (Ziffer C.6. der Hinweise).
B41: Sollte sich bei der Abrechnung der Fachleistungsstunden ein Auszahlungsbetrag
B42: zu unseren Gunsten ergeben, bitten wir um Erstattung auf folgendes Konto:
B44: Kreditinstitut | G44: IBAN
B49: Stempel / Funktion und Unterschrift der / des Verantwortlichen

Sheet Liste zum Antrag
A1: Leistungsberechtigte/r: | D1: =Antrag!B21 -> 0 | I1: ="Az LWL: "&Antrag!D23 -> Az LWL:
A2: Bewilligungszeitraum: | D2: vom | E2: =IF(Antrag!F25=0,"",Antrag!F25) | F2: bis | G2: =IF(Antrag!H25=0,"",Antrag!H25)
D3: bzw. bis Ende der Betreuung | E3: =IF(Antrag!H35<>Antrag!H25,Antrag!H35,"") | F3: Min = | G3: =IF(AND(G2>0,E3>0),MIN(G2,E3),G2) -> 0
A4: 1. Zeiterfassung der tatsächlich erbrachten Leistungen lt. den Quittierungsbelegen:
A6: Über den Budgetnachweis werden auf Grundlage der monatlichen Quittierungsbelege im nachstehenden Umfang gemäß Ziffer A.1. der ABW-Hinweise folgende Zeiten zur Abrechnung beantragt: 1.1) Im direkten Betreuungskontakt erbrachte Minuten (direkte Fachleistungsminuten = D-FLMin). 1.2) Im Rahmen der unter den ersten 4 Spiegelstrichen (s. Erläuterungen zum Antrag) benannten, mittelbaren klientenbezogenen Tätigkeiten (= M-FLMin). Die Summe aus D-FLMin und M-FLMin wird in abrechnungsrelevante Fachleistungsstunden (FLS) umgerechnet. (= Ergebnis vor Zuschlagsberechnung nach § 2 Abs. 3 + 4 der Vergütungsvereinbarung)
A7: Anzahl Monate | C7: Entgeltzeit- raum (s. Ziffer 2) | D7: Monat | E7: Jahr | G7: 1.1) Erfassung D-FLMin | H7: 1.2) Erfassung M-FLMin | I7: D-FLMin + M-FLMin = FLS
A8: =IF(D8<>"",1,"") | C8: =IF(A8="","",IF(D8<=EOMONTH($D$51,0),1, IF(D8<=EOMONTH($D$52,0),2, IF(D8<=EOMONTH($D$53,0),3, IF(D8<=EOMONTH($D$54,0),4, IF(D8<=EOMONTH($D$55,0),5, IF(D8<=EOMONTH($D$56,0),6, IF(D8<=EOMONTH($D$57,0),7,"")))))))) | D8: =IF(E2="","",EOMONTH(E2,0)) | E8: =IF(D8="","",YEAR(D8)) | I8: =IF(G8+H8>0,ROUND((G8+H8)/60,2),0) -> 0
A9: =IF(D9<>"",1+A8,"") | C9: =IF(A9="","",IF(D9<=EOMONTH($D$51,0),1, IF(D9<=EOMONTH($D$52,0),2, IF(D9<=EOMONTH($D$53,0),3, IF(D9<=EOMONTH($D$54,0),4, IF(D9<=EOMONTH($D$55,0),5, IF(D9<=EOMONTH($D$56,0),6, IF(D9<=EOMONTH($D$57,0),7,"")))))))) | D9: =IF(D8="","",IF((EOMONTH((D8+1),0))<=EOMONTH($G$3,0),EOMONTH((D8+1),0),"")) | E9: =IF(D9="","",YEAR(D9)) | I9: =IF(G9+H9>0,ROUND((G9+H9)/60,2),0) -> 0
A10: =IF(D10<>"",1+A9,"") | C10: =IF(A10="","",IF(D10<=EOMONTH($D$51,0),1, IF(D10<=EOMONTH($D$52,0),2, IF(D10<=EOMONTH($D$53,0),3, IF(D10<=EOMONTH($D$54,0),4, IF(D10<=EOMONTH($D$55,0),5, IF(D10<=EOMONTH($D$56,0),6, IF(D10<=EOMONTH($D$57,0),7,"")))))))) | D10: =IF(D9="","",IF((EOMONTH((D9+1),0))<=EOMONTH($G$3,0),EOMONTH((D9+1),0),"")) | E10: =IF(D10="","",YEAR(D10)) | I10: =IF(G10+H10>0,ROUND((G10+H10)/60,2),0) -> 0
A11: =IF(D11<>"",1+A10,"") | C11: =IF(A11="","",IF(D11<=EOMONTH($D$51,0),1, IF(D11<=EOMONTH($D$52,0),2, IF(D11<=EOMONTH($D$53,0),3, IF(D11<=EOMONTH($D$54,0),4, IF(D11<=EOMONTH($D$55,0),5, IF(D11<=EOMONTH($D$56,0),6, IF(D11<=EOMONTH($D$57,0),7,"")))))))) | D11: =IF(D10="","",IF((EOMONTH((D10+1),0))<=EOMONTH($G$3,0),EOMONTH((D10+1),0),"")) | E11: =IF(D11="","",YEAR(D11)) | I11: =IF(G11+H11>0,ROUND((G11+H11)/60,2),0) -> 0
A12: =IF(D12<>"",1+A11,"") | C12: =IF(A12="","",IF(D12<=EOMONTH($D$51,0),1, IF(D12<=EOMONTH($D$52,0),2, IF(D12<=EOMONTH($D$53,0),3, IF(D12<=EOMONTH($D$54,0),4, IF(D12<=EOMONTH($D$55,0),5, IF(D12<=EOMONTH($D$56,0),6, IF(D12<=EOMONTH($D$57,0),7,"")))))))) | D12: =IF(D11="","",IF((EOMONTH((D11+1),0))<=EOMONTH($G$3,0),EOMONTH((D11+1),0),"")) | E12: =IF(D12="","",YEAR(D12)) | I12: =IF(G12+H12>0,ROUND((G12+H12)/60,2),0) -> 0
A13: =IF(D13<>"",1+A12,"") | C13: =IF(A13="","",IF(D13<=EOMONTH($D$51,0),1, IF(D13<=EOMONTH($D$52,0),2, IF(D13<=EOMONTH($D$53,0),3, IF(D13<=EOMONTH($D$54,0),4, IF(D13<=EOMONTH($D$55,0),5, IF(D13<=EOMONTH($D$56,0),6, IF(D13<=EOMONTH($D$57,0),7,"")))))))) | D13: =IF(D12="","",IF((EOMONTH((D12+1),0))<=EOMONTH($G$3,0),EOMONTH((D12+1),0),"")) | E13: =IF(D13="","",YEAR(D13)) | I13: =IF(G13+H13>0,ROUND((G13+H13)/60,2),0) -> 0
A14: =IF(D14<>"",1+A13,"") | C14: =IF(A14="","",IF(D14<=EOMONTH($D$51,0),1, IF(D14<=EOMONTH($D$52,0),2, IF(D14<=EOMONTH($D$53,0),3, IF(D14<=EOMONTH($D$54,0),4, IF(D14<=EOMONTH($D$55,0),5, IF(D14<=EOMONTH($D$56,0),6, IF(D14<=EOMONTH($D$57,0),7,"")))))))) | D14: =IF(D13="","",IF((EOMONTH((D13+1),0))<=EOMONTH($G$3,0),EOMONTH((D13+1),0),"")) | E14: =IF(D14="","",YEAR(D14)) | I14: =IF(G14+H14>0,ROUND((G14+H14)/60,2),0) -> 0
A15: =IF(D15<>"",1+A14,"") | C15: =IF(A15="","",IF(D15<=EOMONTH($D$51,0),1, IF(D15<=EOMONTH($D$52,0),2, IF(D15<=EOMONTH($D$53,0),3, IF(D15<=EOMONTH($D$54,0),4, IF(D15<=EOMONTH($D$55,0),5, IF(D15<=EOMONTH($D$56,0),6, IF(D15<=EOMONTH($D$57,0),7,"")))))))) | D15: =IF(D14="","",IF((EOMONTH((D14+1),0))<=EOMONTH($G$3,0),EOMONTH((D14+1),0),"")) | E15: =IF(D15="","",YEAR(D15)) | I15: =IF(G15+H15>0,ROUND((G15+H15)/60,2),0) -> 0
A16: =IF(D16<>"",1+A15,"") | C16: =IF(A16="","",IF(D16<=EOMONTH($D$51,0),1, IF(D16<=EOMONTH($D$52,0),2, IF(D16<=EOMONTH($D$53,0),3, IF(D16<=EOMONTH($D$54,0),4, IF(D16<=EOMONTH($D$55,0),5, IF(D16<=EOMONTH($D$56,0),6, IF(D16<=EOMONTH($D$57,0),7,"")))))))) | D16: =IF(D15="","",IF((EOMONTH((D15+1),0))<=EOMONTH($G$3,0),EOMONTH((D15+1),0),"")) | E16: =IF(D16="","",YEAR(D16)) | I16: =IF(G16+H16>0,ROUND((G16+H16)/60,2),0) -> 0
A17: =IF(D17<>"",1+A16,"") | C17: =IF(A17="","",IF(D17<=EOMONTH($D$51,0),1, IF(D17<=EOMONTH($D$52,0),2, IF(D17<=EOMONTH($D$53,0),3, IF(D17<=EOMONTH($D$54,0),4, IF(D17<=EOMONTH($D$55,0),5, IF(D17<=EOMONTH($D$56,0),6, IF(D17<=EOMONTH($D$57,0),7,"")))))))) | D17: =IF(D16="","",IF((EOMONTH((D16+1),0))<=EOMONTH($G$3,0),EOMONTH((D16+1),0),"")) | E17: =IF(D17="","",YEAR(D17)) | I17: =IF(G17+H17>0,ROUND((G17+H17)/60,2),0) -> 0
A18: =IF(D18<>"",1+A17,"") | C18: =IF(A18="","",IF(D18<=EOMONTH($D$51,0),1, IF(D18<=EOMONTH($D$52,0),2, IF(D18<=EOMONTH($D$53,0),3, IF(D18<=EOMONTH($D$54,0),4, IF(D18<=EOMONTH($D$55,0),5, IF(D18<=EOMONTH($D$56,0),6, IF(D18<=EOMONTH($D$57,0),7,"")))))))) | D18: =IF(D17="","",IF((EOMONTH((D17+1),0))<=EOMONTH($G$3,0),EOMONTH((D17+1),0),"")) | E18: =IF(D18="","",YEAR(D18)) | I18: =IF(G18+H18>0,ROUND((G18+H18)/60,2),0) -> 0
A19: =IF(D19<>"",1+A18,"") | C19: =IF(A19="","",IF(D19<=EOMONTH($D$51,0),1, IF(D19<=EOMONTH($D$52,0),2, IF(D19<=EOMONTH($D$53,0),3, IF(D19<=EOMONTH($D$54,0),4, IF(D19<=EOMONTH($D$55,0),5, IF(D19<=EOMONTH($D$56,0),6, IF(D19<=EOMONTH($D$57,0),7,"")))))))) | D19: =IF(D18="","",IF((EOMONTH((D18+1),0))<=EOMONTH($G$3,0),EOMONTH((D18+1),0),"")) | E19: =IF(D19="","",YEAR(D19)) | I19: =IF(G19+H19>0,ROUND((G19+H19)/60,2),0) -> 0
A20: =IF(D20<>"",1+A19,"") | C20: =IF(A20="","",IF(D20<=EOMONTH($D$51,0),1, IF(D20<=EOMONTH($D$52,0),2, IF(D20<=EOMONTH($D$53,0),3, IF(D20<=EOMONTH($D$54,0),4, IF(D20<=EOMONTH($D$55,0),5, IF(D20<=EOMONTH($D$56,0),6, IF(D20<=EOMONTH($D$57,0),7,"")))))))) | D20: =IF(D19="","",IF((EOMONTH((D19+1),0))<=EOMONTH($G$3,0),EOMONTH((D19+1),0),"")) | E20: =IF(D20="","",YEAR(D20)) | I20: =IF(G20+H20>0,ROUND((G20+H20)/60,2),0) -> 0
... A43: =IF(D43<>"",1+A42,"") | C43: =IF(A43="","",IF(D43<=EOMONTH($D$51,0),1, IF(D43<=EOMONTH($D$52,0),2, IF(D43<=EOMONTH($D$53,0),3, IF(D43<=EOMONTH($D$54,0),4, IF(D43<=EOMONTH($D$55,0),5, IF(D43<=EOMONTH($D$56,0),6, IF(D43<=EOMONTH($D$57,0),7,"")))))))) | D43: =IF(D42="","",IF((EOMONTH((D42+1),0))<=EOMONTH($G$3,0),EOMONTH((D42+1),0),"")) | E43: =IF(D43="","",YEAR(D43)) | I43: =IF(G43+H43>0,ROUND((G43+H43)/60,2),0) -> 0
E45: SUMME FLMin = | G45: =SUM(G8:G44) -> 0 | H45: =SUM(H8:H44) -> 0 | I45: =IF(G45+H45>0,SUM(I8:I43),0) -> 0 | J45: FLS
J47: ja
A48: 2. Angaben zu den relevanten Entgeltzeiträumen:
A50: Entgeltzeiträume vom/bis: | G50: Summe D-FLS
A51: 1 | B51: 46023 | D51: =IF(B52=0,G3,IF(B52<G3,B52-1,"")) | G51: =IF(G45+I45=0,"",SUMPRODUCT((C8:C43=1)*I8:I43))
A52: 2 | B52: 46143 | D52: =IF(OR(D51=0,D51="",D51=$G$3,B52=0,B52>$G$3),"", IF(AND(B52>0,B52<=$G$3,B53=0),$G$3, IF(AND(B52>0,B52<=$G$3,B53>$G$3),$G$3, B53-1))) | G52: =IF(G45+I45=0,"",SUMPRODUCT((C8:C43=2)*I8:I43))
A53: 3 | D53: =IF(OR(D52=0,D52="",D52=$G$3,B53=0,B53>$G$3),"", IF(AND(B53>0,B53<=$G$3,B54=0),$G$3, IF(AND(B53>0,B53<=$G$3,B54>$G$3),$G$3, B54-1))) | G53: =IF(G45+I45=0,"",SUMPRODUCT((C8:C43=3)*I8:I43))
A54: 4 | D54: =IF(OR(D53=0,D53="",D53=$G$3,B54=0,B54>$G$3),"", IF(AND(B54>0,B54<=$G$3,B55=0),$G$3, IF(AND(B54>0,B54<=$G$3,B55>$G$3),$G$3, B55-1))) | G54: =IF(G45+I45=0,"",SUMPRODUCT((C8:C43=4)*I8:I43))
A55: 5 | D55: =IF(OR(D54=0,D54="",D54=$G$3,B55=0,B55>$G$3),"", IF(AND(B55>0,B55<=$G$3,B56=0),$G$3, IF(AND(B55>0,B55<=$G$3,B56>$G$3),$G$3, B56-1))) | G55: =IF(G45+I45=0,"",SUMPRODUCT((C8:C43=5)*I8:I43))
A56: 6 | D56: =IF(OR(D55=0,D55="",D55=$G$3,B56=0,B56>$G$3),"", IF(AND(B56>0,B56<=$G$3,B57=0),$G$3, IF(AND(B56>0,B56<=$G$3,B57>$G$3),$G$3, B57-1))) | G56: =IF(G45+I45=0,"",SUMPRODUCT((C8:C43=6)*I8:I43))
A57: 7 | D57: =IF(OR(D56=0,D56="",D56=$G$3,B57=0,B57>$G$3),"", IF(AND(B57>0,B57<=$G$3,B58=0),$G$3, IF(AND(B57>0,B57<=$G$3,B58>$G$3),$G$3, B58-1))) | G57: =IF(G45+I45=0,"",SUMPRODUCT((C8:C43=7)*I8:I43))
C58: Summe FLS: | G58: =IF(G45+I45=0,"",SUM(G51:G57))

Sheet Erläuterungen zum Antrag
A1: Erläuterungen zur Anwendung des Budgetnachweismusters:
A3: Dieses Muster setzt die für die ambulanten wohnbezogenen Leistungen der Hilfe zur Überwindung
A4: besonderer sozialer Schwierigkeiten in Westfalen-Lippe geltenden Regelungen bestehend aus:
A5: - LRV | C5: = Landesrahmenvertrag nach § 80 SGB XII NRW
A6: - LV | C6: = Leistungsvereinbarung
A7: - VV | C7: = Vergütungsvereinbarung
A8: - Hinweise | C8: = ABW Hinweise zur Leistung, Vergütung und Abrechnung (Stand: April 2026)
A9: um. Die jeweiligen Internetlinks erleichtern Ihnen die Einsichtnahme in diese Regelungen.
A11: 1. | B11: Über den Budgetnachweis sind die in dem jeweiligen Bewilligungszeitraum tatsächlich erbrachten Fachleistungsstunden (FLS) zu beantragen. Weitergehende Berechnungen in Euro sind im Antrag entbehrlich. Für die beantragten FLS berücksichtigt die Abrechnungsstelle des LWL den für den jeweiligen Entgeltzeitraum vereinbarten Vergütungssatz je FLS. Ferner wird ebenfalls beachtet, dass die Abrechnung der Fahrt- und Wegezeiten sowie der Fehlkontakte lt. § 2 der VV mittels eines Geldzuschlages in Höhe von 20 % sowie 5 % zu den tatsächlich erbrachten Leistungen erfolgt. Die Angabe Ihrer Bankverbindung ist erforderlich.
A13: 2. | B13: Die Differenzierung nach direkten FLS, mittelbaren klientenbezogenen FLS sowie nach den Entgeltzeiträumen erfolgt auf der 2ten Nachweisseite, welche verpflichtend auszufüllender Bestandteil des Budgetnachweises ist. Die FLS werden monatlich getrennt erfasst. Das vermeidet im Falle einer rückwirkend abzurechnenden Vergütungsanpassung doppelten Antragsaufwand und schafft im Verlauf des Bewilligungszeitraums Transparenz zum Umfang der in Anspruch genommenen Betreuungsleistungen. Entsprechend den beiden Quittierungsbelegmustern erfolgt die Angabe in 2 Spalten, getrennt nach direkten und mittelbaren klientenbezogenen FLS. Sie können diese Erfassungsfelder mit Ihrer hauseigenen EDV verknüpfen oder händisch ausfüllen.
B14: Folgende mittelbare klientenbezogene Tätigkeiten können gemäß Ziffer A.1. der ABW Hinweise wie direkte Leistungen abgerechnet werden: - Aufsuchen von Behörden - Gespräche im sozialen Umfeld der leistungsberechtigten Person - Kooperationskontakte mit gesetzlichen Betreuerinnen und Betreuern - Telefonate und Schriftverkehr bzgl. Alltagsangelegenheiten der leistungsberechtigten Person. Die vertraglich festgelegte Refinanzierung umfasst sämtliche der in Ziffer A.1. der Hinwesie genannten Leistungen. Alle ggfls. darüber hinausgehenden Leistungen werden aus diesem Grunde nicht gesondert vergütet (vgl. Ziffer B.5. der Hinweise).
A15: Die vertraglich festgelegte Refinanzierung umfasst sämtliche der in § 2 der LPV genannten Leistungen. Alle ggfs. darüber hinausgehenden Leistungen werden aus diesem Grunde nicht gesondert vergütet (vgl. Ziffer B.5 der Hinweise).
A16: 3. | B16: Erfassungsfelder sind in "grün" hinterlegt. Diese Felder sind beschreibbar. Im Übrigen ist ein Schreibschutz über die sich anschließende Berechnung gelegt worden, um versehentliche Änderungen zu vermeiden. Die auf Seite 1 des Antrages erfassten Daten werden automatisch auf Seite 2 übernommen.
A18: 4. | B18: Die grünen Erfassungsfelder zu den antragsrelevanten Entgeltzeiträumen (Seite 2, Ziffer 2) sind mit dem Datum des Beginns der Entgeltzeiträume vorausgefüllt. Sind bzw. werden künftig andere Entgeltzeiträume antragsrelevant, können diese Erfassungsfelder entsprechend überschrieben werden. Die sich anschließende Berechnung (Summe der beantragten FLS je Entgeltzeitraum, Ziffer 2) berücksichtigt automatisch die geänderten Datumsangaben.
A20: 5. | B20: Die auf Seite 2 des Antrags ermittelte Gesamtsumme an FLS wird automatisch auf Seite 1 übertragen.
